BEGIN:VCALENDAR
VERSION:2.0
PRODID:SchoolNow
CALSCALE:GREGORIAN
BEGIN:VEVENT
UID:7bb3ad90-cef9-11f0-8e8b-02f4c3f2622b
DTSTAMP:20251216T200037Z
SUMMARY:NES Winter Concert (students in grades 5 & 6) - Community
URL;VALUE=URI:https://staging.pvrsdk12.org/pvrsd-schools/nes/calendar/88148
 73/nes-winter-concert-students-in-grades-5-6-community
DTSTART:20251211T191500Z
DTEND:20251211T194500Z
END:VEVENT
END:VCALENDAR
