BEGIN:VCALENDAR
VERSION:2.0
PRODID:SchoolNow
CALSCALE:GREGORIAN
BEGIN:VEVENT
UID:fc3f52f8-c4d0-11f0-abfa-0a58a9feac02
DTSTAMP:20251216T200037Z
SUMMARY:NES PTO Holiday Fair
LOCATION:Gym & Cafeteria
URL;VALUE=URI:https://staging.pvrsdk12.org/pvrsd-schools/nes/calendar/88026
 05/nes-pto-holiday-fair
DTSTART:20251206T140000Z
DTEND:20251206T200000Z
END:VEVENT
END:VCALENDAR
