BEGIN:VCALENDAR
VERSION:2.0
PRODID:SchoolNow
CALSCALE:GREGORIAN
BEGIN:VEVENT
UID:784f3d98-bb41-11f0-b563-0a58a9feac02
DTSTAMP:20251216T200037Z
SUMMARY:PTO Mtg
LOCATION:NES Library
URL;VALUE=URI:https://staging.pvrsdk12.org/pvrsd-schools/nes/calendar/87813
 35/pto-mtg
DTSTART:20261112T230000Z
DTEND:20261113T000000Z
END:VEVENT
END:VCALENDAR
