BEGIN:VCALENDAR
VERSION:2.0
PRODID:SchoolNow
CALSCALE:GREGORIAN
BEGIN:VEVENT
UID:29fef74a-882a-11f0-ba6e-0a58a9feac02
DTSTAMP:20251216T200037Z
SUMMARY:PTO Mtg
LOCATION:NES Cafeteria
URL;VALUE=URI:https://staging.pvrsdk12.org/pvrsd-schools/nes/calendar/85709
 64/pto-mtg
DTSTART:20250917T220000Z
DTEND:20250917T230000Z
END:VEVENT
END:VCALENDAR
