BEGIN:VCALENDAR
VERSION:2.0
PRODID:SchoolNow
CALSCALE:GREGORIAN
BEGIN:VEVENT
UID:f7ba16a4-6c48-11f0-8f0f-0a58a9feac02
DTSTAMP:20251216T200037Z
SUMMARY:NO SCHOOL: Thanksgiving
URL;VALUE=URI:https://staging.pvrsdk12.org/pvrsd-schools/nes/calendar/84544
 74/no-school-thanksgiving
DTSTART;VALUE=DATE:20251127
DTEND;VALUE=DATE:20251128
END:VEVENT
END:VCALENDAR
