BEGIN:VCALENDAR
VERSION:2.0
PRODID:SchoolNow
CALSCALE:GREGORIAN
BEGIN:VEVENT
UID:f7ba1578-6c48-11f0-89d0-0a58a9feac02
DTSTAMP:20251216T200037Z
SUMMARY:Half-Day\, all students & staff: Thanksgiving Break (12:00pm dismis
 sal)
URL;VALUE=URI:https://staging.pvrsdk12.org/pvrsd-schools/nes/calendar/84544
 73/half-day-all-students-staff-thanksgiving-break-12-00pm-dismissal
DTSTART;VALUE=DATE:20251126
DTEND;VALUE=DATE:20251127
END:VEVENT
END:VCALENDAR
