BEGIN:VCALENDAR
VERSION:2.0
PRODID:SchoolNow
CALSCALE:GREGORIAN
BEGIN:VEVENT
UID:f7ba13b6-6c48-11f0-abb6-0a58a9feac02
DTSTAMP:20251216T200037Z
SUMMARY:School Picture Re-take Day
URL;VALUE=URI:https://staging.pvrsdk12.org/pvrsd-schools/nes/calendar/84544
 72/school-picture-re-take-day
DTSTART;VALUE=DATE:20251113
DTEND;VALUE=DATE:20251114
END:VEVENT
END:VCALENDAR
