BEGIN:VCALENDAR
VERSION:2.0
PRODID:SchoolNow
CALSCALE:GREGORIAN
BEGIN:VEVENT
UID:f7ba12da-6c48-11f0-a14d-0a58a9feac02
DTSTAMP:20251216T200037Z
SUMMARY:NO SCHOOL: Veterans Day
URL;VALUE=URI:https://staging.pvrsdk12.org/pvrsd-schools/nes/calendar/84544
 71/no-school-veterans-day
DTSTART;VALUE=DATE:20251111
DTEND;VALUE=DATE:20251112
END:VEVENT
END:VCALENDAR
