BEGIN:VCALENDAR
VERSION:2.0
PRODID:SchoolNow
CALSCALE:GREGORIAN
BEGIN:VEVENT
UID:f7ba1208-6c48-11f0-96dc-0a58a9feac02
DTSTAMP:20251216T200037Z
SUMMARY:NO SCHOOL\, all students: Staff In-service
URL;VALUE=URI:https://staging.pvrsdk12.org/pvrsd-schools/nes/calendar/84544
 70/no-school-all-students-staff-in-service
DTSTART;VALUE=DATE:20251110
DTEND;VALUE=DATE:20251111
END:VEVENT
END:VCALENDAR
