BEGIN:VCALENDAR
VERSION:2.0
PRODID:SchoolNow
CALSCALE:GREGORIAN
BEGIN:VEVENT
UID:f7ba0f7e-6c48-11f0-8a9f-0a58a9feac02
DTSTAMP:20251216T200037Z
SUMMARY:Half-Day\, all students: Staff In-service (12:00pm dismissal)
URL;VALUE=URI:https://staging.pvrsdk12.org/pvrsd-schools/nes/calendar/84544
 67/half-day-all-students-staff-in-service-12-00pm-dismissal
DTSTART;VALUE=DATE:20250926
DTEND;VALUE=DATE:20250927
END:VEVENT
END:VCALENDAR
