BEGIN:VCALENDAR
VERSION:2.0
PRODID:SchoolNow
CALSCALE:GREGORIAN
BEGIN:VEVENT
UID:f7ba0cea-6c48-11f0-9105-0a58a9feac02
DTSTAMP:20251216T200037Z
SUMMARY:NO SCHOOL: Indigenous Peoples' Day
URL;VALUE=URI:https://staging.pvrsdk12.org/pvrsd-schools/nes/calendar/84544
 64/no-school-indigenous-peoples-day
DTSTART;VALUE=DATE:20251013
DTEND;VALUE=DATE:20251014
END:VEVENT
END:VCALENDAR
