BEGIN:VCALENDAR
VERSION:2.0
PRODID:SchoolNow
CALSCALE:GREGORIAN
BEGIN:VEVENT
UID:f7ba0b28-6c48-11f0-be10-0a58a9feac02
DTSTAMP:20251216T200037Z
SUMMARY:Open House
URL;VALUE=URI:https://staging.pvrsdk12.org/pvrsd-schools/nes/calendar/84544
 62/open-house
DTSTART:20250918T220000Z
DTEND:20250918T230000Z
END:VEVENT
END:VCALENDAR
