BEGIN:VCALENDAR
VERSION:2.0
PRODID:SchoolNow
CALSCALE:GREGORIAN
BEGIN:VEVENT
UID:f7ba0a38-6c48-11f0-8938-0a58a9feac02
DTSTAMP:20251216T200037Z
SUMMARY:NES PTO Back-to-School Ice Cream Social
LOCATION:Playground
URL;VALUE=URI:https://staging.pvrsdk12.org/pvrsd-schools/nes/calendar/84544
 61/nes-pto-back-to-school-ice-cream-social
DTSTART:20250825T213000Z
DTEND:20250825T230000Z
END:VEVENT
END:VCALENDAR
