BEGIN:VCALENDAR
VERSION:2.0
PRODID:SchoolNow
CALSCALE:GREGORIAN
BEGIN:VEVENT
UID:f7ba093e-6c48-11f0-92ec-0a58a9feac02
DTSTAMP:20251216T200037Z
SUMMARY:Preschool First Days (half-day for Preschool ONLY)
URL;VALUE=URI:https://staging.pvrsdk12.org/pvrsd-schools/nes/calendar/84544
 60/preschool-first-days-half-day-for-preschool-only
DTSTART;VALUE=DATE:20250903
DTEND;VALUE=DATE:20250906
END:VEVENT
END:VCALENDAR
