BEGIN:VCALENDAR
VERSION:2.0
PRODID:SchoolNow
CALSCALE:GREGORIAN
BEGIN:VEVENT
UID:f7ba0826-6c48-11f0-ab7c-0a58a9feac02
DTSTAMP:20251216T200037Z
SUMMARY:First Day of School: Kindergarten
URL;VALUE=URI:https://staging.pvrsdk12.org/pvrsd-schools/nes/calendar/84544
 59/first-day-of-school-kindergarten
DTSTART;VALUE=DATE:20250902
DTEND;VALUE=DATE:20250903
END:VEVENT
END:VCALENDAR
