BEGIN:VCALENDAR
VERSION:2.0
PRODID:SchoolNow
CALSCALE:GREGORIAN
BEGIN:VEVENT
UID:f7ba0330-6c48-11f0-a078-0a58a9feac02
DTSTAMP:20251216T200037Z
SUMMARY:First Day of School: Grades 1-6
URL;VALUE=URI:https://staging.pvrsdk12.org/pvrsd-schools/nes/calendar/84544
 57/first-day-of-school-grades-1-6
DTSTART;VALUE=DATE:20250827
DTEND;VALUE=DATE:20250828
END:VEVENT
END:VCALENDAR
