BEGIN:VCALENDAR
VERSION:2.0
PRODID:SchoolNow
CALSCALE:GREGORIAN
BEGIN:VEVENT
UID:dd4cb86c-a9c6-11ee-b705-0ad4125ddec9
DTSTAMP:20240105T001007Z
SUMMARY:PTO Meeting
URL;VALUE=URI:https://staging.pvrsdk12.org/pvrsd-schools/bes/calendar/50940
 38/pto-meeting
DTSTART:20240108T231500Z
DTEND:20240109T001500Z
END:VEVENT
END:VCALENDAR
