BEGIN:VCALENDAR
VERSION:2.0
PRODID:SchoolNow
CALSCALE:GREGORIAN
BEGIN:VEVENT
UID:a287d8d0-78cd-11ee-830f-02a92999fdb1
DTSTAMP:20240105T001007Z
SUMMARY:Winter Band Concert
URL;VALUE=URI:https://staging.pvrsdk12.org/pvrsd-schools/bes/calendar/49175
 58/winter-band-concert
DTSTART:20231212T184500Z
DTEND:20231212T191500Z
END:VEVENT
END:VCALENDAR
