BEGIN:VCALENDAR
VERSION:2.0
PRODID:SchoolNow
CALSCALE:GREGORIAN
BEGIN:VEVENT
UID:183c5fb8-63e5-11ee-b992-022e45d71c37
DTSTAMP:20240105T001007Z
SUMMARY:Craft Fair
LOCATION:Gym\, Cafe\, Basement Hallway
URL;VALUE=URI:https://staging.pvrsdk12.org/pvrsd-schools/bes/calendar/48355
 49/craft-fair
DTSTART:20231202T140000Z
DTEND:20231202T200000Z
END:VEVENT
END:VCALENDAR
