BEGIN:VCALENDAR
VERSION:2.0
PRODID:SchoolNow
CALSCALE:GREGORIAN
BEGIN:VEVENT
UID:1511e1a6-5408-11ee-b87d-0226496187df
DTSTAMP:20240105T001007Z
SUMMARY:Bernardston PTO meeting
LOCATION:Google Meets
URL;VALUE=URI:https://staging.pvrsdk12.org/pvrsd-schools/bes/calendar/47440
 23/bernardston-pto-meeting
DTSTART:20231004T230000Z
DTEND:20231005T000000Z
END:VEVENT
END:VCALENDAR
