BEGIN:VCALENDAR
VERSION:2.0
PRODID:SchoolNow
CALSCALE:GREGORIAN
BEGIN:VEVENT
UID:937932de-51a5-11ee-b77f-0ec50cf1c4a1
DTSTAMP:20240105T001007Z
SUMMARY:Instrument Rent Night
LOCATION:NES Cafeteria
URL;VALUE=URI:https://staging.pvrsdk12.org/pvrsd-schools/bes/calendar/47246
 14/instrument-rent-night
DTSTART:20230928T223000Z
DTEND:20230928T233000Z
END:VEVENT
END:VCALENDAR
