BEGIN:VCALENDAR
VERSION:2.0
PRODID:SchoolNow
CALSCALE:GREGORIAN
BEGIN:VEVENT
UID:9e69bc08-50d9-11ee-9d32-02060973a243
DTSTAMP:20240105T001007Z
SUMMARY:Winter Band Concert - for Grades 4-6 and Families
URL;VALUE=URI:https://staging.pvrsdk12.org/pvrsd-schools/bes/calendar/47166
 79/winter-band-concert-for-grades-4-6-and-families
DTSTART:20231212T193000Z
DTEND:20231212T200000Z
END:VEVENT
END:VCALENDAR
