BEGIN:VCALENDAR
VERSION:2.0
PRODID:SchoolNow
CALSCALE:GREGORIAN
BEGIN:VEVENT
UID:dc51d8d8-4c11-11ee-896b-02c1b11e2aeb
DTSTAMP:20240105T001007Z
SUMMARY:Photo Retake Day
LOCATION:Gym
URL;VALUE=URI:https://staging.pvrsdk12.org/pvrsd-schools/bes/calendar/46842
 88/photo-retake-day
DTSTART:20231005T130000Z
DTEND:20231005T140000Z
END:VEVENT
END:VCALENDAR
