BEGIN:VCALENDAR
VERSION:2.0
PRODID:SchoolNow
CALSCALE:GREGORIAN
BEGIN:VEVENT
UID:dc51c9e2-4c11-11ee-9cef-02c1b11e2aeb
DTSTAMP:20240105T001007Z
SUMMARY:Open House
URL;VALUE=URI:https://staging.pvrsdk12.org/pvrsd-schools/bes/calendar/46842
 87/open-house
DTSTART:20230921T220000Z
DTEND:20230921T230000Z
END:VEVENT
END:VCALENDAR
