BEGIN:VCALENDAR
VERSION:2.0
PRODID:SchoolNow
CALSCALE:GREGORIAN
BEGIN:VEVENT
UID:dc51bb00-4c11-11ee-b562-02c1b11e2aeb
DTSTAMP:20240105T001007Z
SUMMARY:Welcome Back to School BBQ
LOCATION:On Lawn in front of the school.
URL;VALUE=URI:https://staging.pvrsdk12.org/pvrsd-schools/bes/calendar/46842
 86/welcome-back-to-school-bbq
DTSTART:20230921T210000Z
DTEND:20230921T214500Z
END:VEVENT
END:VCALENDAR
