BEGIN:VCALENDAR
VERSION:2.0
PRODID:SchoolNow
CALSCALE:GREGORIAN
BEGIN:VEVENT
UID:dc514d00-4c11-11ee-95ab-02c1b11e2aeb
DTSTAMP:20240105T001007Z
SUMMARY:School Photo Day
LOCATION:Gym
URL;VALUE=URI:https://staging.pvrsdk12.org/pvrsd-schools/bes/calendar/46842
 85/school-photo-day
DTSTART:20230906T123000Z
DTEND:20230906T133000Z
END:VEVENT
END:VCALENDAR
