BEGIN:VCALENDAR
VERSION:2.0
PRODID:SchoolNow
CALSCALE:GREGORIAN
BEGIN:VEVENT
UID:96bbae82-10e3-11f0-bd47-0a58a9feac02
DTSTAMP:20251216T200037Z
SUMMARY:First Day of School: Grades 1-12
URL;VALUE=URI:https://staging.pvrsdk12.org/calendar/7843872/first-day-of-sc
 hool-grades-1-12
DTSTART;VALUE=DATE:20250827
DTEND;VALUE=DATE:20250828
END:VEVENT
END:VCALENDAR
