BEGIN:VCALENDAR
VERSION:2.0
PRODID:SchoolNow
CALSCALE:GREGORIAN
BEGIN:VEVENT
UID:96bbac48-10e3-11f0-ab45-0a58a9feac02
DTSTAMP:20251216T200037Z
SUMMARY:Pre-K First Days (1/2 day)
URL;VALUE=URI:https://staging.pvrsdk12.org/calendar/7843870/pre-k-first-day
 s-1-2-day
DTSTART;VALUE=DATE:20250903
DTEND;VALUE=DATE:20250904
END:VEVENT
END:VCALENDAR
