BEGIN:VCALENDAR
VERSION:2.0
PRODID:SchoolNow
CALSCALE:GREGORIAN
BEGIN:VEVENT
UID:9666a158-10e3-11f0-adbd-0a58a9feac02
DTSTAMP:20251216T200037Z
SUMMARY:1/2 Day Elementary Only (family conferences)
URL;VALUE=URI:https://staging.pvrsdk12.org/calendar/7843825/1-2-day-element
 ary-only-family-conferences
DTSTART;VALUE=DATE:20251024
DTEND;VALUE=DATE:20251025
END:VEVENT
END:VCALENDAR
