BEGIN:VCALENDAR
VERSION:2.0
PRODID:SchoolNow
CALSCALE:GREGORIAN
BEGIN:VEVENT
UID:96669e6a-10e3-11f0-8cbf-0a58a9feac02
DTSTAMP:20251216T200037Z
SUMMARY:Indigenous People's Day: Schools and Office Closed
URL;VALUE=URI:https://staging.pvrsdk12.org/calendar/7843823/indigenous-peop
 les-day-schools-and-office-closed
DTSTART;VALUE=DATE:20251013
DTEND;VALUE=DATE:20251014
END:VEVENT
END:VCALENDAR
