BEGIN:VCALENDAR
VERSION:2.0
PRODID:SchoolNow
CALSCALE:GREGORIAN
BEGIN:VEVENT
UID:96669d7a-10e3-11f0-8b33-0a58a9feac02
DTSTAMP:20251216T200037Z
SUMMARY:1/2 Day All Students (in-service)
URL;VALUE=URI:https://staging.pvrsdk12.org/calendar/7843822/1-2-day-all-stu
 dents-in-service
DTSTART;VALUE=DATE:20251010
DTEND;VALUE=DATE:20251011
END:VEVENT
END:VCALENDAR
