BEGIN:VCALENDAR
VERSION:2.0
PRODID:SchoolNow
CALSCALE:GREGORIAN
BEGIN:VEVENT
UID:96669c4e-10e3-11f0-aa3c-0a58a9feac02
DTSTAMP:20251216T200037Z
SUMMARY:1/2 Day All Students (in-service)
URL;VALUE=URI:https://staging.pvrsdk12.org/calendar/7843821/1-2-day-all-stu
 dents-in-service
DTSTART;VALUE=DATE:20250926
DTEND;VALUE=DATE:20250927
END:VEVENT
END:VCALENDAR
