BEGIN:VCALENDAR
VERSION:2.0
PRODID:SchoolNow
CALSCALE:GREGORIAN
BEGIN:VEVENT
UID:96669ac8-10e3-11f0-9702-0a58a9feac02
DTSTAMP:20251216T200037Z
SUMMARY:Kindergarten First Day (full day)
URL;VALUE=URI:https://staging.pvrsdk12.org/calendar/7843820/kindergarten-fi
 rst-day-full-day
DTSTART;VALUE=DATE:20250902
DTEND;VALUE=DATE:20250903
END:VEVENT
END:VCALENDAR
