BEGIN:VCALENDAR
VERSION:2.0
PRODID:SchoolNow
CALSCALE:GREGORIAN
BEGIN:VEVENT
UID:96669988-10e3-11f0-8486-0a58a9feac02
DTSTAMP:20251216T200037Z
SUMMARY:Labor Day: Schools and Offices Closed
URL;VALUE=URI:https://staging.pvrsdk12.org/calendar/7843819/labor-day-schoo
 ls-and-offices-closed
DTSTART;VALUE=DATE:20250901
DTEND;VALUE=DATE:20250902
END:VEVENT
END:VCALENDAR
