BEGIN:VCALENDAR
VERSION:2.0
PRODID:SchoolNow
CALSCALE:GREGORIAN
BEGIN:VEVENT
UID:966697bc-10e3-11f0-a747-0a58a9feac02
DTSTAMP:20251216T200037Z
SUMMARY:Staff Opening Days
URL;VALUE=URI:https://staging.pvrsdk12.org/calendar/7843817/staff-opening-d
 ays
DTSTART;VALUE=DATE:20250826
DTEND;VALUE=DATE:20250827
END:VEVENT
END:VCALENDAR
