BEGIN:VCALENDAR
VERSION:2.0
PRODID:SchoolNow
CALSCALE:GREGORIAN
BEGIN:VEVENT
UID:966696cc-10e3-11f0-982d-0a58a9feac02
DTSTAMP:20251216T200037Z
SUMMARY:Staff Opening Days
URL;VALUE=URI:https://staging.pvrsdk12.org/calendar/7843816/staff-opening-d
 ays
DTSTART;VALUE=DATE:20250825
DTEND;VALUE=DATE:20250826
END:VEVENT
END:VCALENDAR
