BEGIN:VCALENDAR
VERSION:2.0
PRODID:SchoolNow
CALSCALE:GREGORIAN
BEGIN:VEVENT
UID:966692b2-10e3-11f0-a72e-0a58a9feac02
DTSTAMP:20251216T200037Z
SUMMARY:New Educator Orientation
URL;VALUE=URI:https://staging.pvrsdk12.org/calendar/7843814/new-educator-or
 ientation
DTSTART;VALUE=DATE:20250820
DTEND;VALUE=DATE:20250821
END:VEVENT
END:VCALENDAR
